BEGIN:VCALENDAR
VERSION:2.0
PRODID:-// - ECPv6.15.18//NONSGML v1.0//EN
CALSCALE:GREGORIAN
METHOD:PUBLISH
X-ORIGINAL-URL:https://rhiannonsoprano.co.uk
X-WR-CALDESC:Events for 
REFRESH-INTERVAL;VALUE=DURATION:PT1H
X-Robots-Tag:noindex
X-PUBLISHED-TTL:PT1H
BEGIN:VTIMEZONE
TZID:Europe/London
BEGIN:DAYLIGHT
TZOFFSETFROM:+0000
TZOFFSETTO:+0100
TZNAME:BST
DTSTART:20250330T010000
END:DAYLIGHT
BEGIN:STANDARD
TZOFFSETFROM:+0100
TZOFFSETTO:+0000
TZNAME:GMT
DTSTART:20251026T010000
END:STANDARD
BEGIN:DAYLIGHT
TZOFFSETFROM:+0000
TZOFFSETTO:+0100
TZNAME:BST
DTSTART:20260329T010000
END:DAYLIGHT
BEGIN:STANDARD
TZOFFSETFROM:+0100
TZOFFSETTO:+0000
TZNAME:GMT
DTSTART:20261025T010000
END:STANDARD
BEGIN:DAYLIGHT
TZOFFSETFROM:+0000
TZOFFSETTO:+0100
TZNAME:BST
DTSTART:20270328T010000
END:DAYLIGHT
BEGIN:STANDARD
TZOFFSETFROM:+0100
TZOFFSETTO:+0000
TZNAME:GMT
DTSTART:20271031T010000
END:STANDARD
BEGIN:DAYLIGHT
TZOFFSETFROM:+0000
TZOFFSETTO:+0100
TZNAME:BST
DTSTART:20280326T010000
END:DAYLIGHT
BEGIN:STANDARD
TZOFFSETFROM:+0100
TZOFFSETTO:+0000
TZNAME:GMT
DTSTART:20281029T010000
END:STANDARD
END:VTIMEZONE
BEGIN:VEVENT
DTSTART;VALUE=DATE:20260418
DTEND;VALUE=DATE:20260426
DTSTAMP:20260423T133806
CREATED:20260405T094916Z
LAST-MODIFIED:20260405T094916Z
UID:3460-1776470400-1777161599@rhiannonsoprano.co.uk
SUMMARY:Regent Splendor
DESCRIPTION:
URL:https://rhiannonsoprano.co.uk/away/regent-splendor/
END:VEVENT
BEGIN:VEVENT
DTSTART;VALUE=DATE:20260601
DTEND;VALUE=DATE:20260607
DTSTAMP:20260423T133806
CREATED:20250701T162452Z
LAST-MODIFIED:20250701T162452Z
UID:3257-1780272000-1780790399@rhiannonsoprano.co.uk
SUMMARY:Oceania Nautica
DESCRIPTION:
URL:https://rhiannonsoprano.co.uk/away/oceania-nautica/
END:VEVENT
BEGIN:VEVENT
DTSTART;VALUE=DATE:20260812
DTEND;VALUE=DATE:20260821
DTSTAMP:20260423T133806
CREATED:20250827T113448Z
LAST-MODIFIED:20250827T113448Z
UID:3377-1786492800-1787270399@rhiannonsoprano.co.uk
SUMMARY:Oceania Nautica
DESCRIPTION:
URL:https://rhiannonsoprano.co.uk/away/oceania-nautica-2/
END:VEVENT
BEGIN:VEVENT
DTSTART;VALUE=DATE:20260824
DTEND;VALUE=DATE:20260903
DTSTAMP:20260423T133806
CREATED:20250827T113601Z
LAST-MODIFIED:20250827T113601Z
UID:3379-1787529600-1788393599@rhiannonsoprano.co.uk
SUMMARY:Regent Voyager
DESCRIPTION:
URL:https://rhiannonsoprano.co.uk/away/regent-voyager-2/
END:VEVENT
BEGIN:VEVENT
DTSTART;VALUE=DATE:20260903
DTEND;VALUE=DATE:20260911
DTSTAMP:20260423T133806
CREATED:20250827T113705Z
LAST-MODIFIED:20250827T113705Z
UID:3381-1788393600-1789084799@rhiannonsoprano.co.uk
SUMMARY:Oceania Sirena
DESCRIPTION:
URL:https://rhiannonsoprano.co.uk/away/oceania-sirena-2/
END:VEVENT
BEGIN:VEVENT
DTSTART;VALUE=DATE:20261013
DTEND;VALUE=DATE:20261021
DTSTAMP:20260423T133806
CREATED:20250827T114001Z
LAST-MODIFIED:20250827T114001Z
UID:3383-1791849600-1792540799@rhiannonsoprano.co.uk
SUMMARY:Oceania Insignia
DESCRIPTION:
URL:https://rhiannonsoprano.co.uk/away/oceania-insignia/
END:VEVENT
BEGIN:VEVENT
DTSTART;VALUE=DATE:20261101
DTEND;VALUE=DATE:20261107
DTSTAMP:20260423T133806
CREATED:20260121T121312Z
LAST-MODIFIED:20260121T121312Z
UID:3419-1793491200-1794009599@rhiannonsoprano.co.uk
SUMMARY:Regent Navigator
DESCRIPTION:
URL:https://rhiannonsoprano.co.uk/away/regent-navigator-2/
END:VEVENT
BEGIN:VEVENT
DTSTART;VALUE=DATE:20270502
DTEND;VALUE=DATE:20270509
DTSTAMP:20260423T133806
CREATED:20251120T155956Z
LAST-MODIFIED:20251120T155956Z
UID:3403-1809216000-1809820799@rhiannonsoprano.co.uk
SUMMARY:Oceania Vista
DESCRIPTION:
URL:https://rhiannonsoprano.co.uk/away/oceania-vista/
END:VEVENT
END:VCALENDAR